Workbook

Sheet 00_Categories
A1: Category_Code | B1: Category_Name | C1: Definition
A2: ENT | B2: Entities / NHI | C2: Presence of non-human or non-ordinary intelligences, visual or non-visual.
A3: CNS | B3: Consciousness State Alteration | C3: OBE, lucidity, bilocation, hypnagogic transitions, altered awareness.
A4: DIS | B4: Spatial Displacement | C4: Movement through structures, relocation, teleportation-like transitions.
A5: GEO | B5: Geometric / Energetic Phenomena | C5: Rings, toroids, fields, membranes, structured light or energy.
A6: STK | B6: Stacked Rooms / Layered Environment | C6: Multiple overlapping or nested perceptual environments.
A7: TMP | B7: Temporal / Precognitive Effects | C7: Time distortion, foresight, non-linear temporal experience.
A8: SOM | B8: Somatic Traces | C8: Physical marks, energetic impacts, or physiological resonance from encounters.
A9: SYM | B9: Symbolic Gestures | C9: Non-linguistic communicative actions with clear semantic content.
A10: ENV | B10: Environmental Reconstruction | C10: Synthetic, constructed, or altered spatial environments.
A11: ORI | B11: 4D Orientation Events | C11: Fully coherent transitions into structured non-3D spaces or 'orientation' scenes.

Sheet 01_Stages
A1: Stage_Code | B1: Stage_Name | C1: Description
A2: S1 | B2: Stage 1 – Raw Exposure | C2: Childhood liminal experiences, silhouettes, fear, and basic presence phenomena.
A3: S2 | B3: Stage 2 – Threshold Disturbance | C3: Adolescent presence states, dread, and boundary-testing encounters.
A4: S3 | B4: Stage 3 – 4D Interference | C4: Early-adult OBEs, tethering, and layered-room or interference experiences.
A5: S4 | B5: Stage 4 – Symbolic Integration | C5: Mid-life symbolic gestures, geometric motifs, and meaning-rich episodes.
A6: S5 | B6: Stage 5 – Technical Demonstration | C6: Post-2019 guided transitions, technical or craft-related demonstrations.
A7: S6 | B7: Stage 6 – Orientation | C7: High-coherence 4D orientation events and structured reception spaces.

Sheet 02_Life_Periods
A1: Life_Period | B1: Approx_Age | C1: Description
A2: Childhood | B2: 6–15 | C2: Early-life exposure and liminal states.
A3: Teens | B3: 16–19 | C3: Adolescent threshold and early visions.
A4: 20s | B4: 20–29 | C4: Early adulthood OBEs and flight experiences.
A5: 30s | B5: 30–39 | C5: Intense OBEs, layered rooms, emergent interference.
A6: 40s | B6: 40–47 | C6: Symbolic, communicative, and conflict-oriented encounters.
A7: 2019–2022 | B7: 48–51 | C7: High density of structured encounters and physical effects.
A8: 2023 | B8: 48–51 | C8: Transitional high-strangeness metallic-room events.
A9: 2024 | B9: 51–52 | C9: Bilocation, visitations, and training-like scenarios.
A10: 2025 | B10: 52–53 | C10: High-coherence 4D orientation, training, and craft-linked scenes.

Sheet Raw_Encounters
A1: Encounter_ID | B1: Label | C1: Year_or_Date | D1: Age_or_Range | E1: Location | F1: Brief_Description | G1: Life_Period | H1: Stage_Code | I1: Category_Codes
A2: 1 | B2: Shadows on curtains | C2: 1976–1977 | D2: 6–7 | E2: Picton, NZ | F2: Shadows or silhouettes of figures moving across curtains while recovering from illness. | G2: Childhood | H2: S1 | I2: ENT|CNS
A3: 2 | B3: Short figures around bed | C3: 1978–1979 | D3: 8–9 | E3: Nelson, NZ | F3: Sick with flu; surrounded by short figures with enlarged heads and eyes. | G3: Childhood | H3: S1 | I3: ENT|CNS
A4: 3 | B4: Malevolent wrinkled figure | C4: 1978–1979 | D4: 8–9 | E4: Nelson, NZ | F4: Wrinkled malevolent figure appearing above bed, descending toward experiencer. | G4: Childhood | H4: S1 | I4: ENT|CNS
A5: 4 | B5: Void with dread | C5: 1986–1989 | D5: 16–19 | E5: Whangaparaoa, NZ | F5: Fully awake, looking into moving black void in room, strong dread. | G5: Teens | H5: S2 | I5: CNS|ENV
A6: 5 | B6: Guided flight | C6: 1986–1989 | D6: 16–19 | E6: Whangaparaoa, NZ | F6: Taken flying over location with multiple structures by an interacting presence. | G6: Teens | H6: S2 | I6: ENT|DIS|ENV
A7: 6 | B7: High-altitude floating | C7: 1990–1994 | D7: 20–24 | E7: West Coast camp, NZ | F7: Wakes under stars to find self high above sleeping group. | G7: 20s | H7: S3 | I7: CNS|DIS
A8: 7 | B8: OBEs over Bribie | C8: 1995–1998 | D8: 25–27 | E8: Brisbane / Bribie Island, AU | F8: Out-of-body experiences flying over trees and houses; repeated. | G8: 20s | H8: S3 | I8: CNS|DIS|ENV
A9: 8 | B9: Falling then flying | C9: 1995–1998 | D9: 25–27 | E9: Likely QLD | F9: Falling in dream, chooses not to wake, stops above ground and realises ability to fly. | G9: 20s | H9: S3 | I9: CNS|DIS|TMP
A10: 9 | B10: Ceiling tether OBE | C10: 1999–2002 | D10: 28–31 | E10: Leigh/Warkworth, NZ | F10: Leaves body, floats to ceiling, observes tether to body before dropping back in. | G10: 30s | H10: S3 | I10: CNS|DIS
A11: 10 | B11: Pitch-black room | C11: 1999–2002 | D11: 28–31 | E11: Leigh/Warkworth, NZ | F11: Intense vision of being trapped in a pitch-black room with no exit. | G11: 30s | H11: S3 | I11: ENV|CNS
A12: 11 | B12: Emerald figure | C12: 2003–2004 | D12: 32–33 | E12: Spirits Bay, NZ | F12: Green figure wakes experiencer in tent, explains coming difficult period but eventual resolution. | G12: 30s | H12: S3 | I12: ENT|SYM|CNS
A13: 12 | B13: Navy pendant vision | C13: 2005–2006 | D13: 33–34 | E13: Auckland, NZ | F13: Conscious in ex-partner's house vision; pendants everywhere; told it is time to go. | G13: 30s | H13: S3 | I13: ENT|SYM|CNS
... A42: 41 | B42: Teleport to UK | C42: 6-Nov-2025 | D42: 52 | E42: Perth studio → causeway → Heath, UK | F42: Guided from bed along blurred causeway, teleported via concentric rings to old room with dogs in English village. | G42: 2025 | H42: S6 | I42: CNS|DIS|GEO|ENV|ENT

Sheet Stage_Counts
A1: Stage_Code | B1: Stage_Name | C1: Encounter_Count
A2: S1 | B2: Stage 1 – Raw Exposure | C2: =COUNTIF(Raw_Encounters!$H:$H,"S1") -> 3
A3: S2 | B3: Stage 2 – Threshold Disturbance | C3: =COUNTIF(Raw_Encounters!$H:$H,"S2") -> 2
A4: S3 | B4: Stage 3 – 4D Interference | C4: =COUNTIF(Raw_Encounters!$H:$H,"S3") -> 11
A5: S4 | B5: Stage 4 – Symbolic Integration | C5: =COUNTIF(Raw_Encounters!$H:$H,"S4") -> 1
A6: S5 | B6: Stage 5 – Technical Demonstration | C6: =COUNTIF(Raw_Encounters!$H:$H,"S5") -> 22
A7: S6 | B7: Stage 6 – Orientation | C7: =COUNTIF(Raw_Encounters!$H:$H,"S6") -> 2

Sheet LifePeriod_by_Category
A1: Life_Period | B1: Entities / NHI | C1: Consciousness State Alteration | D1: Spatial Displacement | E1: Geometric / Energetic Phenomena | F1: Stacked Rooms / Layered Environment | G1: Temporal / Precognitive Effects | H1: Somatic Traces | I1: Symbolic Gestures | J1: Environmental Reconstruction | K1: 4D Orientation Events
A2: Childhood | B2: =COUNTIFS(Raw_Encounters!$G:$G,"Childhood",Raw_Encounters!$I:$I,"*ENT*") -> 3 | C2: =COUNTIFS(Raw_Encounters!$G:$G,"Childhood",Raw_Encounters!$I:$I,"*CNS*") -> 3 | D2: =COUNTIFS(Raw_Encounters!$G:$G,"Childhood",Raw_Encounters!$I:$I,"*DIS*") -> 0 | E2: =COUNTIFS(Raw_Encounters!$G:$G,"Childhood",Raw_Encounters!$I:$I,"*GEO*") -> 0 | F2: =COUNTIFS(Raw_Encounters!$G:$G,"Childhood",Raw_Encounters!$I:$I,"*STK*") -> 0 | G2: =COUNTIFS(Raw_Encounters!$G:$G,"Childhood",Raw_Encounters!$I:$I,"*TMP*") -> 0 | H2: =COUNTIFS(Raw_Encounters!$G:$G,"Childhood",Raw_Encounters!$I:$I,"*SOM*") -> 0 | I2: =COUNTIFS(Raw_Encounters!$G:$G,"Childhood",Raw_Encounters!$I:$I,"*SYM*") -> 0 | J2: =COUNTIFS(Raw_Encounters!$G:$G,"Childhood",Raw_Encounters!$I:$I,"*ENV*") -> 0 | K2: =COUNTIFS(Raw_Encounters!$G:$G,"Childhood",Raw_Encounters!$I:$I,"*ORI*") -> 0
A3: Teens | B3: =COUNTIFS(Raw_Encounters!$G:$G,"Teens",Raw_Encounters!$I:$I,"*ENT*") -> 1 | C3: =COUNTIFS(Raw_Encounters!$G:$G,"Teens",Raw_Encounters!$I:$I,"*CNS*") -> 1 | D3: =COUNTIFS(Raw_Encounters!$G:$G,"Teens",Raw_Encounters!$I:$I,"*DIS*") -> 1 | E3: =COUNTIFS(Raw_Encounters!$G:$G,"Teens",Raw_Encounters!$I:$I,"*GEO*") -> 0 | F3: =COUNTIFS(Raw_Encounters!$G:$G,"Teens",Raw_Encounters!$I:$I,"*STK*") -> 0 | G3: =COUNTIFS(Raw_Encounters!$G:$G,"Teens",Raw_Encounters!$I:$I,"*TMP*") -> 0 | H3: =COUNTIFS(Raw_Encounters!$G:$G,"Teens",Raw_Encounters!$I:$I,"*SOM*") -> 0 | I3: =COUNTIFS(Raw_Encounters!$G:$G,"Teens",Raw_Encounters!$I:$I,"*SYM*") -> 0 | J3: =COUNTIFS(Raw_Encounters!$G:$G,"Teens",Raw_Encounters!$I:$I,"*ENV*") -> 2 | K3: =COUNTIFS(Raw_Encounters!$G:$G,"Teens",Raw_Encounters!$I:$I,"*ORI*") -> 0
A4: 20s | B4: =COUNTIFS(Raw_Encounters!$G:$G,"20s",Raw_Encounters!$I:$I,"*ENT*") -> 0 | C4: =COUNTIFS(Raw_Encounters!$G:$G,"20s",Raw_Encounters!$I:$I,"*CNS*") -> 3 | D4: =COUNTIFS(Raw_Encounters!$G:$G,"20s",Raw_Encounters!$I:$I,"*DIS*") -> 3 | E4: =COUNTIFS(Raw_Encounters!$G:$G,"20s",Raw_Encounters!$I:$I,"*GEO*") -> 0 | F4: =COUNTIFS(Raw_Encounters!$G:$G,"20s",Raw_Encounters!$I:$I,"*STK*") -> 0 | G4: =COUNTIFS(Raw_Encounters!$G:$G,"20s",Raw_Encounters!$I:$I,"*TMP*") -> 1 | H4: =COUNTIFS(Raw_Encounters!$G:$G,"20s",Raw_Encounters!$I:$I,"*SOM*") -> 0 | I4: =COUNTIFS(Raw_Encounters!$G:$G,"20s",Raw_Encounters!$I:$I,"*SYM*") -> 0 | J4: =COUNTIFS(Raw_Encounters!$G:$G,"20s",Raw_Encounters!$I:$I,"*ENV*") -> 1 | K4: =COUNTIFS(Raw_Encounters!$G:$G,"20s",Raw_Encounters!$I:$I,"*ORI*") -> 0
A5: 30s | B5: =COUNTIFS(Raw_Encounters!$G:$G,"30s",Raw_Encounters!$I:$I,"*ENT*") -> 6 | C5: =COUNTIFS(Raw_Encounters!$G:$G,"30s",Raw_Encounters!$I:$I,"*CNS*") -> 6 | D5: =COUNTIFS(Raw_Encounters!$G:$G,"30s",Raw_Encounters!$I:$I,"*DIS*") -> 1 | E5: =COUNTIFS(Raw_Encounters!$G:$G,"30s",Raw_Encounters!$I:$I,"*GEO*") -> 0 | F5: =COUNTIFS(Raw_Encounters!$G:$G,"30s",Raw_Encounters!$I:$I,"*STK*") -> 0 | G5: =COUNTIFS(Raw_Encounters!$G:$G,"30s",Raw_Encounters!$I:$I,"*TMP*") -> 0 | H5: =COUNTIFS(Raw_Encounters!$G:$G,"30s",Raw_Encounters!$I:$I,"*SOM*") -> 1 | I5: =COUNTIFS(Raw_Encounters!$G:$G,"30s",Raw_Encounters!$I:$I,"*SYM*") -> 3 | J5: =COUNTIFS(Raw_Encounters!$G:$G,"30s",Raw_Encounters!$I:$I,"*ENV*") -> 2 | K5: =COUNTIFS(Raw_Encounters!$G:$G,"30s",Raw_Encounters!$I:$I,"*ORI*") -> 0
A6: 40s | B6: =COUNTIFS(Raw_Encounters!$G:$G,"40s",Raw_Encounters!$I:$I,"*ENT*") -> 1 | C6: =COUNTIFS(Raw_Encounters!$G:$G,"40s",Raw_Encounters!$I:$I,"*CNS*") -> 1 | D6: =COUNTIFS(Raw_Encounters!$G:$G,"40s",Raw_Encounters!$I:$I,"*DIS*") -> 0 | E6: =COUNTIFS(Raw_Encounters!$G:$G,"40s",Raw_Encounters!$I:$I,"*GEO*") -> 0 | F6: =COUNTIFS(Raw_Encounters!$G:$G,"40s",Raw_Encounters!$I:$I,"*STK*") -> 0 | G6: =COUNTIFS(Raw_Encounters!$G:$G,"40s",Raw_Encounters!$I:$I,"*TMP*") -> 0 | H6: =COUNTIFS(Raw_Encounters!$G:$G,"40s",Raw_Encounters!$I:$I,"*SOM*") -> 0 | I6: =COUNTIFS(Raw_Encounters!$G:$G,"40s",Raw_Encounters!$I:$I,"*SYM*") -> 1 | J6: =COUNTIFS(Raw_Encounters!$G:$G,"40s",Raw_Encounters!$I:$I,"*ENV*") -> 0 | K6: =COUNTIFS(Raw_Encounters!$G:$G,"40s",Raw_Encounters!$I:$I,"*ORI*") -> 0
A7: 2019–2022 | B7: =COUNTIFS(Raw_Encounters!$G:$G,"2019–2022",Raw_Encounters!$I:$I,"*ENT*") -> 7 | C7: =COUNTIFS(Raw_Encounters!$G:$G,"2019–2022",Raw_Encounters!$I:$I,"*CNS*") -> 8 | D7: =COUNTIFS(Raw_Encounters!$G:$G,"2019–2022",Raw_Encounters!$I:$I,"*DIS*") -> 3 | E7: =COUNTIFS(Raw_Encounters!$G:$G,"2019–2022",Raw_Encounters!$I:$I,"*GEO*") -> 3 | F7: =COUNTIFS(Raw_Encounters!$G:$G,"2019–2022",Raw_Encounters!$I:$I,"*STK*") -> 0 | G7: =COUNTIFS(Raw_Encounters!$G:$G,"2019–2022",Raw_Encounters!$I:$I,"*TMP*") -> 2 | H7: =COUNTIFS(Raw_Encounters!$G:$G,"2019–2022",Raw_Encounters!$I:$I,"*SOM*") -> 2 | I7: =COUNTIFS(Raw_Encounters!$G:$G,"2019–2022",Raw_Encounters!$I:$I,"*SYM*") -> 0 | J7: =COUNTIFS(Raw_Encounters!$G:$G,"2019–2022",Raw_Encounters!$I:$I,"*ENV*") -> 10 | K7: =COUNTIFS(Raw_Encounters!$G:$G,"2019–2022",Raw_Encounters!$I:$I,"*ORI*") -> 0
A8: 2023 | B8: =COUNTIFS(Raw_Encounters!$G:$G,"2023",Raw_Encounters!$I:$I,"*ENT*") -> 1 | C8: =COUNTIFS(Raw_Encounters!$G:$G,"2023",Raw_Encounters!$I:$I,"*CNS*") -> 1 | D8: =COUNTIFS(Raw_Encounters!$G:$G,"2023",Raw_Encounters!$I:$I,"*DIS*") -> 0 | E8: =COUNTIFS(Raw_Encounters!$G:$G,"2023",Raw_Encounters!$I:$I,"*GEO*") -> 0 | F8: =COUNTIFS(Raw_Encounters!$G:$G,"2023",Raw_Encounters!$I:$I,"*STK*") -> 0 | G8: =COUNTIFS(Raw_Encounters!$G:$G,"2023",Raw_Encounters!$I:$I,"*TMP*") -> 0 | H8: =COUNTIFS(Raw_Encounters!$G:$G,"2023",Raw_Encounters!$I:$I,"*SOM*") -> 0 | I8: =COUNTIFS(Raw_Encounters!$G:$G,"2023",Raw_Encounters!$I:$I,"*SYM*") -> 0 | J8: =COUNTIFS(Raw_Encounters!$G:$G,"2023",Raw_Encounters!$I:$I,"*ENV*") -> 1 | K8: =COUNTIFS(Raw_Encounters!$G:$G,"2023",Raw_Encounters!$I:$I,"*ORI*") -> 0
A9: 2024 | B9: =COUNTIFS(Raw_Encounters!$G:$G,"2024",Raw_Encounters!$I:$I,"*ENT*") -> 1 | C9: =COUNTIFS(Raw_Encounters!$G:$G,"2024",Raw_Encounters!$I:$I,"*CNS*") -> 1 | D9: =COUNTIFS(Raw_Encounters!$G:$G,"2024",Raw_Encounters!$I:$I,"*DIS*") -> 1 | E9: =COUNTIFS(Raw_Encounters!$G:$G,"2024",Raw_Encounters!$I:$I,"*GEO*") -> 0 | F9: =COUNTIFS(Raw_Encounters!$G:$G,"2024",Raw_Encounters!$I:$I,"*STK*") -> 0 | G9: =COUNTIFS(Raw_Encounters!$G:$G,"2024",Raw_Encounters!$I:$I,"*TMP*") -> 1 | H9: =COUNTIFS(Raw_Encounters!$G:$G,"2024",Raw_Encounters!$I:$I,"*SOM*") -> 0 | I9: =COUNTIFS(Raw_Encounters!$G:$G,"2024",Raw_Encounters!$I:$I,"*SYM*") -> 1 | J9: =COUNTIFS(Raw_Encounters!$G:$G,"2024",Raw_Encounters!$I:$I,"*ENV*") -> 1 | K9: =COUNTIFS(Raw_Encounters!$G:$G,"2024",Raw_Encounters!$I:$I,"*ORI*") -> 0
A10: 2025 | B10: =COUNTIFS(Raw_Encounters!$G:$G,"2025",Raw_Encounters!$I:$I,"*ENT*") -> 4 | C10: =COUNTIFS(Raw_Encounters!$G:$G,"2025",Raw_Encounters!$I:$I,"*CNS*") -> 5 | D10: =COUNTIFS(Raw_Encounters!$G:$G,"2025",Raw_Encounters!$I:$I,"*DIS*") -> 4 | E10: =COUNTIFS(Raw_Encounters!$G:$G,"2025",Raw_Encounters!$I:$I,"*GEO*") -> 4 | F10: =COUNTIFS(Raw_Encounters!$G:$G,"2025",Raw_Encounters!$I:$I,"*STK*") -> 2 | G10: =COUNTIFS(Raw_Encounters!$G:$G,"2025",Raw_Encounters!$I:$I,"*TMP*") -> 6 | H10: =COUNTIFS(Raw_Encounters!$G:$G,"2025",Raw_Encounters!$I:$I,"*SOM*") -> 0 | I10: =COUNTIFS(Raw_Encounters!$G:$G,"2025",Raw_Encounters!$I:$I,"*SYM*") -> 3 | J10: =COUNTIFS(Raw_Encounters!$G:$G,"2025",Raw_Encounters!$I:$I,"*ENV*") -> 8 | K10: =COUNTIFS(Raw_Encounters!$G:$G,"2025",Raw_Encounters!$I:$I,"*ORI*") -> 0

Sheet Category_Totals
A1: Category_Code | B1: Category_Name | C1: Total_Count
A2: ENT | B2: Entities / NHI | C2: =COUNTIF(Raw_Encounters!$I:$I,"*ENT*") -> 24
A3: CNS | B3: Consciousness State Alteration | C3: =COUNTIF(Raw_Encounters!$I:$I,"*CNS*") -> 29
A4: DIS | B4: Spatial Displacement | C4: =COUNTIF(Raw_Encounters!$I:$I,"*DIS*") -> 13
A5: GEO | B5: Geometric / Energetic Phenomena | C5: =COUNTIF(Raw_Encounters!$I:$I,"*GEO*") -> 7
A6: STK | B6: Stacked Rooms / Layered Environment | C6: =COUNTIF(Raw_Encounters!$I:$I,"*STK*") -> 2
A7: TMP | B7: Temporal / Precognitive Effects | C7: =COUNTIF(Raw_Encounters!$I:$I,"*TMP*") -> 10
A8: SOM | B8: Somatic Traces | C8: =COUNTIF(Raw_Encounters!$I:$I,"*SOM*") -> 3
A9: SYM | B9: Symbolic Gestures | C9: =COUNTIF(Raw_Encounters!$I:$I,"*SYM*") -> 8
A10: ENV | B10: Environmental Reconstruction | C10: =COUNTIF(Raw_Encounters!$I:$I,"*ENV*") -> 25
A11: ORI | B11: 4D Orientation Events | C11: =COUNTIF(Raw_Encounters!$I:$I,"*ORI*") -> 0

Sheet Methods_Overview
A1: Step | B1: Process | C1: Description
A2: 1 | B2: Corpus definition | C2: Narrative documents and encounter lists defined as primary corpus.
A3: 2 | B3: Event reconstruction | C3: Discrete encounters identified, dated, and assigned to life periods.
A4: 3 | B4: Taxonomy coding | C4: Each encounter coded with one or more category codes (ENT, CNS, etc.).
A5: 4 | B5: Stage mapping | C5: Encounters mapped to developmental stages S1–S6 based on phenomenology and era.
A6: 5 | B6: Matrix construction | C6: Excel formulas (COUNTIF/COUNTIFS) build stage counts, period × category matrices, and totals.
A7: 6 | B7: Reproducibility | C7: All counts are formula-driven; editing Raw_Encounters updates all summary tables automatically.

Sheet Subphase_Encounters
A1: Encounter_ID | B1: Parent_Encounter_ID | C1: Label | D1: Year_or_Date | E1: Age_or_Range | F1: Location | G1: Brief_Description | H1: Life_Period | I1: Stage_Code | J1: Category_Codes | K1: Event_Type
A2: 42 | B2: 39 | C2: Sub-phase: Pine→Teleportation jump | D2: 2-Sep-2025 | E2: 52 | F2: Multi-scene training space | G2: Sub-phase: Pine→Teleportation jump | H2: 2025 | I2: S5 | J2: CNS|DIS|ENV|SYM | K2: Subphase
A3: 43 | B3: 39 | C3: Sub-phase: Door unlock attempt | D3: 2-Sep-2025 | E3: 52 | F3: Multi-scene training space | G3: Sub-phase: Door unlock attempt | H3: 2025 | I3: S5 | J3: CNS|DIS|ENV|SYM | K3: Subphase
A4: 44 | B4: 39 | C4: Sub-phase: Car-layer scene | D4: 2-Sep-2025 | E4: 52 | F4: Multi-scene training space | G4: Sub-phase: Car-layer scene | H4: 2025 | I4: S5 | J4: CNS|DIS|ENV|SYM | K4: Subphase
A5: 45 | B5: 39 | C5: Sub-phase: Wave-layer scene | D5: 2-Sep-2025 | E5: 52 | F5: Multi-scene training space | G5: Sub-phase: Wave-layer scene | H5: 2025 | I5: S5 | J5: CNS|DIS|ENV|SYM | K5: Subphase
A6: 46 | B6: 39 | C6: Sub-phase: Tram-layer scene | D6: 2-Sep-2025 | E6: 52 | F6: Multi-scene training space | G6: Sub-phase: Tram-layer scene | H6: 2025 | I6: S5 | J6: CNS|DIS|ENV|SYM | K6: Subphase
A7: 47 | B7: 39 | C7: Sub-phase: Jelly tube descent | D7: 2-Sep-2025 | E7: 52 | F7: Multi-scene training space | G7: Sub-phase: Jelly tube descent | H7: 2025 | I7: S5 | J7: CNS|DIS|ENV|SYM | K7: Subphase
A8: 48 | B8: 40 | C8: Sub-phase: Telekinesis micro-attempt | D8: 13-Sep-2025 | E8: 52 | F8: Estate complex + bedroom | G8: Sub-phase: Telekinesis micro-attempt | H8: 2025 | I8: S5 | J8: CNS|DIS|ENV|SYM | K8: Subphase
A9: 49 | B9: 40 | C9: Sub-phase: Object inversion moment | D9: 13-Sep-2025 | E9: 52 | F9: Estate complex + bedroom | G9: Sub-phase: Object inversion moment | H9: 2025 | I9: S5 | J9: CNS|DIS|ENV|SYM | K9: Subphase
A10: 50 | B10: 40 | C10: Sub-phase: Boy's paper handover | D10: 13-Sep-2025 | E10: 52 | F10: Estate complex + bedroom | G10: Sub-phase: Boy's paper handover | H10: 2025 | I10: S5 | J10: CNS|DIS|ENV|SYM | K10: Subphase
A11: 51 | B11: 36 | C11: Sub-phase: Facility rooftop sequence | D11: 21-Mar-2025 | E11: 52 | F11: Hill facility + reception hall | G11: Sub-phase: Facility rooftop sequence | H11: 2025 | I11: S6 | J11: CNS|DIS|ENV|SYM | K11: Subphase
A12: 52 | B12: 36 | C12: Sub-phase: Ring machine close-up | D12: 21-Mar-2025 | E12: 52 | F12: Hill facility + reception hall | G12: Sub-phase: Ring machine close-up | H12: 2025 | I12: S6 | J12: CNS|DIS|ENV|SYM | K12: Subphase
A13: 53 | B13: 36 | C13: Sub-phase: Craft approach phase | D13: 21-Mar-2025 | E13: 52 | F13: Hill facility + reception hall | G13: Sub-phase: Craft approach phase | H13: 2025 | I13: S6 | J13: CNS|DIS|ENV|SYM | K13: Subphase
... A23: 63 | B23: 38 | C23: Sub-phase: Library mezzanine flight | D23: 27-Apr-2025 | E23: 52 | F23: Circular hall / learning centre | G23: Sub-phase: Library mezzanine flight | H23: 2025 | I23: S5 | J23: CNS|DIS|ENV|SYM | K23: Subphase

Sheet All_Events_63
A1: Encounter_ID | B1: Parent_Encounter_ID | C1: Label | D1: Year_or_Date | E1: Age_or_Range | F1: Location | G1: Brief_Description | H1: Life_Period | I1: Stage_Code | J1: Category_Codes | K1: Event_Type
A2: 1 | C2: Shadows on curtains | D2: 1976–1977 | E2: 6–7 | F2: Picton, NZ | G2: Shadows or silhouettes of figures moving across curtains while recovering from illness. | H2: Childhood | I2: S1 | J2: ENT|CNS | K2: Primary
A3: 2 | C3: Short figures around bed | D3: 1978–1979 | E3: 8–9 | F3: Nelson, NZ | G3: Sick with flu; surrounded by short figures with enlarged heads and eyes. | H3: Childhood | I3: S1 | J3: ENT|CNS | K3: Primary
A4: 3 | C4: Malevolent wrinkled figure | D4: 1978–1979 | E4: 8–9 | F4: Nelson, NZ | G4: Wrinkled malevolent figure appearing above bed, descending toward experiencer. | H4: Childhood | I4: S1 | J4: ENT|CNS | K4: Primary
A5: 4 | C5: Void with dread | D5: 1986–1989 | E5: 16–19 | F5: Whangaparaoa, NZ | G5: Fully awake, looking into moving black void in room, strong dread. | H5: Teens | I5: S2 | J5: CNS|ENV | K5: Primary
A6: 5 | C6: Guided flight | D6: 1986–1989 | E6: 16–19 | F6: Whangaparaoa, NZ | G6: Taken flying over location with multiple structures by an interacting presence. | H6: Teens | I6: S2 | J6: ENT|DIS|ENV | K6: Primary
A7: 6 | C7: High-altitude floating | D7: 1990–1994 | E7: 20–24 | F7: West Coast camp, NZ | G7: Wakes under stars to find self high above sleeping group. | H7: 20s | I7: S3 | J7: CNS|DIS | K7: Primary
A8: 7 | C8: OBEs over Bribie | D8: 1995–1998 | E8: 25–27 | F8: Brisbane / Bribie Island, AU | G8: Out-of-body experiences flying over trees and houses; repeated. | H8: 20s | I8: S3 | J8: CNS|DIS|ENV | K8: Primary
A9: 8 | C9: Falling then flying | D9: 1995–1998 | E9: 25–27 | F9: Likely QLD | G9: Falling in dream, chooses not to wake, stops above ground and realises ability to fly. | H9: 20s | I9: S3 | J9: CNS|DIS|TMP | K9: Primary
A10: 9 | C10: Ceiling tether OBE | D10: 1999–2002 | E10: 28–31 | F10: Leigh/Warkworth, NZ | G10: Leaves body, floats to ceiling, observes tether to body before dropping back in. | H10: 30s | I10: S3 | J10: CNS|DIS | K10: Primary
A11: 10 | C11: Pitch-black room | D11: 1999–2002 | E11: 28–31 | F11: Leigh/Warkworth, NZ | G11: Intense vision of being trapped in a pitch-black room with no exit. | H11: 30s | I11: S3 | J11: ENV|CNS | K11: Primary
A12: 11 | C12: Emerald figure | D12: 2003–2004 | E12: 32–33 | F12: Spirits Bay, NZ | G12: Green figure wakes experiencer in tent, explains coming difficult period but eventual resolution. | H12: 30s | I12: S3 | J12: ENT|SYM|CNS | K12: Primary
A13: 12 | C13: Navy pendant vision | D13: 2005–2006 | E13: 33–34 | F13: Auckland, NZ | G13: Conscious in ex-partner's house vision; pendants everywhere; told it is time to go. | H13: 30s | I13: S3 | J13: ENT|SYM|CNS | K13: Primary
... A42: 41 | C42: Teleport to UK | D42: 6-Nov-2025 | E42: 52 | F42: Perth studio → causeway → Heath, UK | G42: Guided from bed along blurred causeway, teleported via concentric rings to old room with dogs in English village. | H42: 2025 | I42: S6 | J42: CNS|DIS|GEO|ENV|ENT | K42: Primary
A43: 42 | B43: 39 | C43: Sub-phase: Pine→Teleportation jump | D43: 2-Sep-2025 | E43: 52 | F43: Multi-scene training space | G43: Sub-phase: Pine→Teleportation jump | H43: 2025 | I43: S5 | J43: CNS|DIS|ENV|SYM | K43: Subphase
A44: 43 | B44: 39 | C44: Sub-phase: Door unlock attempt | D44: 2-Sep-2025 | E44: 52 | F44: Multi-scene training space | G44: Sub-phase: Door unlock attempt | H44: 2025 | I44: S5 | J44: CNS|DIS|ENV|SYM | K44: Subphase
A45: 44 | B45: 39 | C45: Sub-phase: Car-layer scene | D45: 2-Sep-2025 | E45: 52 | F45: Multi-scene training space | G45: Sub-phase: Car-layer scene | H45: 2025 | I45: S5 | J45: CNS|DIS|ENV|SYM | K45: Subphase
A46: 45 | B46: 39 | C46: Sub-phase: Wave-layer scene | D46: 2-Sep-2025 | E46: 52 | F46: Multi-scene training space | G46: Sub-phase: Wave-layer scene | H46: 2025 | I46: S5 | J46: CNS|DIS|ENV|SYM | K46: Subphase
A47: 46 | B47: 39 | C47: Sub-phase: Tram-layer scene | D47: 2-Sep-2025 | E47: 52 | F47: Multi-scene training space | G47: Sub-phase: Tram-layer scene | H47: 2025 | I47: S5 | J47: CNS|DIS|ENV|SYM | K47: Subphase
A48: 47 | B48: 39 | C48: Sub-phase: Jelly tube descent | D48: 2-Sep-2025 | E48: 52 | F48: Multi-scene training space | G48: Sub-phase: Jelly tube descent | H48: 2025 | I48: S5 | J48: CNS|DIS|ENV|SYM | K48: Subphase
A49: 48 | B49: 40 | C49: Sub-phase: Telekinesis micro-attempt | D49: 13-Sep-2025 | E49: 52 | F49: Estate complex + bedroom | G49: Sub-phase: Telekinesis micro-attempt | H49: 2025 | I49: S5 | J49: CNS|DIS|ENV|SYM | K49: Subphase
A50: 49 | B50: 40 | C50: Sub-phase: Object inversion moment | D50: 13-Sep-2025 | E50: 52 | F50: Estate complex + bedroom | G50: Sub-phase: Object inversion moment | H50: 2025 | I50: S5 | J50: CNS|DIS|ENV|SYM | K50: Subphase
A51: 50 | B51: 40 | C51: Sub-phase: Boy's paper handover | D51: 13-Sep-2025 | E51: 52 | F51: Estate complex + bedroom | G51: Sub-phase: Boy's paper handover | H51: 2025 | I51: S5 | J51: CNS|DIS|ENV|SYM | K51: Subphase
A52: 51 | B52: 36 | C52: Sub-phase: Facility rooftop sequence | D52: 21-Mar-2025 | E52: 52 | F52: Hill facility + reception hall | G52: Sub-phase: Facility rooftop sequence | H52: 2025 | I52: S6 | J52: CNS|DIS|ENV|SYM | K52: Subphase
A53: 52 | B53: 36 | C53: Sub-phase: Ring machine close-up | D53: 21-Mar-2025 | E53: 52 | F53: Hill facility + reception hall | G53: Sub-phase: Ring machine close-up | H53: 2025 | I53: S6 | J53: CNS|DIS|ENV|SYM | K53: Subphase
A54: 53 | B54: 36 | C54: Sub-phase: Craft approach phase | D54: 21-Mar-2025 | E54: 52 | F54: Hill facility + reception hall | G54: Sub-phase: Craft approach phase | H54: 2025 | I54: S6 | J54: CNS|DIS|ENV|SYM | K54: Subphase
... A64: 63 | B64: 38 | C64: Sub-phase: Library mezzanine flight | D64: 27-Apr-2025 | E64: 52 | F64: Circular hall / learning centre | G64: Sub-phase: Library mezzanine flight | H64: 2025 | I64: S5 | J64: CNS|DIS|ENV|SYM | K64: Subphase

Sheet Stage_Counts_63
A1: Stage_Code | B1: Stage_Name | C1: Encounter_Count_63
A2: S1 | B2: Stage 1 – Raw Exposure | C2: =COUNTIF(All_Events_63!$I:$I,"S1") -> 3
A3: S2 | B3: Stage 2 – Threshold Disturbance | C3: =COUNTIF(All_Events_63!$I:$I,"S2") -> 2
A4: S3 | B4: Stage 3 – 4D Interference | C4: =COUNTIF(All_Events_63!$I:$I,"S3") -> 11
A5: S4 | B5: Stage 4 – Symbolic Integration | C5: =COUNTIF(All_Events_63!$I:$I,"S4") -> 1
A6: S5 | B6: Stage 5 – Technical Demonstration | C6: =COUNTIF(All_Events_63!$I:$I,"S5") -> 38
A7: S6 | B7: Stage 6 – Orientation | C7: =COUNTIF(All_Events_63!$I:$I,"S6") -> 8

Sheet LifePeriod_by_Category_63
A1: Life_Period | B1: Entities / NHI | C1: Consciousness State Alteration | D1: Spatial Displacement | E1: Geometric / Energetic Phenomena | F1: Stacked Rooms / Layered Environment | G1: Temporal / Precognitive Effects | H1: Somatic Traces | I1: Symbolic Gestures | J1: Environmental Reconstruction | K1: 4D Orientation Events
A2: Childhood | B2: =COUNTIFS(All_Events_63!$H:$H,"Childhood",All_Events_63!$J:$J,"*ENT*") -> 3 | C2: =COUNTIFS(All_Events_63!$H:$H,"Childhood",All_Events_63!$J:$J,"*CNS*") -> 3 | D2: =COUNTIFS(All_Events_63!$H:$H,"Childhood",All_Events_63!$J:$J,"*DIS*") -> 0 | E2: =COUNTIFS(All_Events_63!$H:$H,"Childhood",All_Events_63!$J:$J,"*GEO*") -> 0 | F2: =COUNTIFS(All_Events_63!$H:$H,"Childhood",All_Events_63!$J:$J,"*STK*") -> 0 | G2: =COUNTIFS(All_Events_63!$H:$H,"Childhood",All_Events_63!$J:$J,"*TMP*") -> 0 | H2: =COUNTIFS(All_Events_63!$H:$H,"Childhood",All_Events_63!$J:$J,"*SOM*") -> 0 | I2: =COUNTIFS(All_Events_63!$H:$H,"Childhood",All_Events_63!$J:$J,"*SYM*") -> 0 | J2: =COUNTIFS(All_Events_63!$H:$H,"Childhood",All_Events_63!$J:$J,"*ENV*") -> 0 | K2: =COUNTIFS(All_Events_63!$H:$H,"Childhood",All_Events_63!$J:$J,"*ORI*") -> 0
A3: Teens | B3: =COUNTIFS(All_Events_63!$H:$H,"Teens",All_Events_63!$J:$J,"*ENT*") -> 1 | C3: =COUNTIFS(All_Events_63!$H:$H,"Teens",All_Events_63!$J:$J,"*CNS*") -> 1 | D3: =COUNTIFS(All_Events_63!$H:$H,"Teens",All_Events_63!$J:$J,"*DIS*") -> 1 | E3: =COUNTIFS(All_Events_63!$H:$H,"Teens",All_Events_63!$J:$J,"*GEO*") -> 0 | F3: =COUNTIFS(All_Events_63!$H:$H,"Teens",All_Events_63!$J:$J,"*STK*") -> 0 | G3: =COUNTIFS(All_Events_63!$H:$H,"Teens",All_Events_63!$J:$J,"*TMP*") -> 0 | H3: =COUNTIFS(All_Events_63!$H:$H,"Teens",All_Events_63!$J:$J,"*SOM*") -> 0 | I3: =COUNTIFS(All_Events_63!$H:$H,"Teens",All_Events_63!$J:$J,"*SYM*") -> 0 | J3: =COUNTIFS(All_Events_63!$H:$H,"Teens",All_Events_63!$J:$J,"*ENV*") -> 2 | K3: =COUNTIFS(All_Events_63!$H:$H,"Teens",All_Events_63!$J:$J,"*ORI*") -> 0
A4: 20s | B4: =COUNTIFS(All_Events_63!$H:$H,"20s",All_Events_63!$J:$J,"*ENT*") -> 0 | C4: =COUNTIFS(All_Events_63!$H:$H,"20s",All_Events_63!$J:$J,"*CNS*") -> 3 | D4: =COUNTIFS(All_Events_63!$H:$H,"20s",All_Events_63!$J:$J,"*DIS*") -> 3 | E4: =COUNTIFS(All_Events_63!$H:$H,"20s",All_Events_63!$J:$J,"*GEO*") -> 0 | F4: =COUNTIFS(All_Events_63!$H:$H,"20s",All_Events_63!$J:$J,"*STK*") -> 0 | G4: =COUNTIFS(All_Events_63!$H:$H,"20s",All_Events_63!$J:$J,"*TMP*") -> 1 | H4: =COUNTIFS(All_Events_63!$H:$H,"20s",All_Events_63!$J:$J,"*SOM*") -> 0 | I4: =COUNTIFS(All_Events_63!$H:$H,"20s",All_Events_63!$J:$J,"*SYM*") -> 0 | J4: =COUNTIFS(All_Events_63!$H:$H,"20s",All_Events_63!$J:$J,"*ENV*") -> 1 | K4: =COUNTIFS(All_Events_63!$H:$H,"20s",All_Events_63!$J:$J,"*ORI*") -> 0
A5: 30s | B5: =COUNTIFS(All_Events_63!$H:$H,"30s",All_Events_63!$J:$J,"*ENT*") -> 6 | C5: =COUNTIFS(All_Events_63!$H:$H,"30s",All_Events_63!$J:$J,"*CNS*") -> 6 | D5: =COUNTIFS(All_Events_63!$H:$H,"30s",All_Events_63!$J:$J,"*DIS*") -> 1 | E5: =COUNTIFS(All_Events_63!$H:$H,"30s",All_Events_63!$J:$J,"*GEO*") -> 0 | F5: =COUNTIFS(All_Events_63!$H:$H,"30s",All_Events_63!$J:$J,"*STK*") -> 0 | G5: =COUNTIFS(All_Events_63!$H:$H,"30s",All_Events_63!$J:$J,"*TMP*") -> 0 | H5: =COUNTIFS(All_Events_63!$H:$H,"30s",All_Events_63!$J:$J,"*SOM*") -> 1 | I5: =COUNTIFS(All_Events_63!$H:$H,"30s",All_Events_63!$J:$J,"*SYM*") -> 3 | J5: =COUNTIFS(All_Events_63!$H:$H,"30s",All_Events_63!$J:$J,"*ENV*") -> 2 | K5: =COUNTIFS(All_Events_63!$H:$H,"30s",All_Events_63!$J:$J,"*ORI*") -> 0
A6: 40s | B6: =COUNTIFS(All_Events_63!$H:$H,"40s",All_Events_63!$J:$J,"*ENT*") -> 1 | C6: =COUNTIFS(All_Events_63!$H:$H,"40s",All_Events_63!$J:$J,"*CNS*") -> 1 | D6: =COUNTIFS(All_Events_63!$H:$H,"40s",All_Events_63!$J:$J,"*DIS*") -> 0 | E6: =COUNTIFS(All_Events_63!$H:$H,"40s",All_Events_63!$J:$J,"*GEO*") -> 0 | F6: =COUNTIFS(All_Events_63!$H:$H,"40s",All_Events_63!$J:$J,"*STK*") -> 0 | G6: =COUNTIFS(All_Events_63!$H:$H,"40s",All_Events_63!$J:$J,"*TMP*") -> 0 | H6: =COUNTIFS(All_Events_63!$H:$H,"40s",All_Events_63!$J:$J,"*SOM*") -> 0 | I6: =COUNTIFS(All_Events_63!$H:$H,"40s",All_Events_63!$J:$J,"*SYM*") -> 1 | J6: =COUNTIFS(All_Events_63!$H:$H,"40s",All_Events_63!$J:$J,"*ENV*") -> 0 | K6: =COUNTIFS(All_Events_63!$H:$H,"40s",All_Events_63!$J:$J,"*ORI*") -> 0
A7: 2019–2022 | B7: =COUNTIFS(All_Events_63!$H:$H,"2019–2022",All_Events_63!$J:$J,"*ENT*") -> 7 | C7: =COUNTIFS(All_Events_63!$H:$H,"2019–2022",All_Events_63!$J:$J,"*CNS*") -> 8 | D7: =COUNTIFS(All_Events_63!$H:$H,"2019–2022",All_Events_63!$J:$J,"*DIS*") -> 3 | E7: =COUNTIFS(All_Events_63!$H:$H,"2019–2022",All_Events_63!$J:$J,"*GEO*") -> 3 | F7: =COUNTIFS(All_Events_63!$H:$H,"2019–2022",All_Events_63!$J:$J,"*STK*") -> 0 | G7: =COUNTIFS(All_Events_63!$H:$H,"2019–2022",All_Events_63!$J:$J,"*TMP*") -> 2 | H7: =COUNTIFS(All_Events_63!$H:$H,"2019–2022",All_Events_63!$J:$J,"*SOM*") -> 2 | I7: =COUNTIFS(All_Events_63!$H:$H,"2019–2022",All_Events_63!$J:$J,"*SYM*") -> 0 | J7: =COUNTIFS(All_Events_63!$H:$H,"2019–2022",All_Events_63!$J:$J,"*ENV*") -> 10 | K7: =COUNTIFS(All_Events_63!$H:$H,"2019–2022",All_Events_63!$J:$J,"*ORI*") -> 0
A8: 2023 | B8: =COUNTIFS(All_Events_63!$H:$H,"2023",All_Events_63!$J:$J,"*ENT*") -> 1 | C8: =COUNTIFS(All_Events_63!$H:$H,"2023",All_Events_63!$J:$J,"*CNS*") -> 1 | D8: =COUNTIFS(All_Events_63!$H:$H,"2023",All_Events_63!$J:$J,"*DIS*") -> 0 | E8: =COUNTIFS(All_Events_63!$H:$H,"2023",All_Events_63!$J:$J,"*GEO*") -> 0 | F8: =COUNTIFS(All_Events_63!$H:$H,"2023",All_Events_63!$J:$J,"*STK*") -> 0 | G8: =COUNTIFS(All_Events_63!$H:$H,"2023",All_Events_63!$J:$J,"*TMP*") -> 0 | H8: =COUNTIFS(All_Events_63!$H:$H,"2023",All_Events_63!$J:$J,"*SOM*") -> 0 | I8: =COUNTIFS(All_Events_63!$H:$H,"2023",All_Events_63!$J:$J,"*SYM*") -> 0 | J8: =COUNTIFS(All_Events_63!$H:$H,"2023",All_Events_63!$J:$J,"*ENV*") -> 1 | K8: =COUNTIFS(All_Events_63!$H:$H,"2023",All_Events_63!$J:$J,"*ORI*") -> 0
A9: 2024 | B9: =COUNTIFS(All_Events_63!$H:$H,"2024",All_Events_63!$J:$J,"*ENT*") -> 1 | C9: =COUNTIFS(All_Events_63!$H:$H,"2024",All_Events_63!$J:$J,"*CNS*") -> 2 | D9: =COUNTIFS(All_Events_63!$H:$H,"2024",All_Events_63!$J:$J,"*DIS*") -> 2 | E9: =COUNTIFS(All_Events_63!$H:$H,"2024",All_Events_63!$J:$J,"*GEO*") -> 0 | F9: =COUNTIFS(All_Events_63!$H:$H,"2024",All_Events_63!$J:$J,"*STK*") -> 0 | G9: =COUNTIFS(All_Events_63!$H:$H,"2024",All_Events_63!$J:$J,"*TMP*") -> 1 | H9: =COUNTIFS(All_Events_63!$H:$H,"2024",All_Events_63!$J:$J,"*SOM*") -> 0 | I9: =COUNTIFS(All_Events_63!$H:$H,"2024",All_Events_63!$J:$J,"*SYM*") -> 2 | J9: =COUNTIFS(All_Events_63!$H:$H,"2024",All_Events_63!$J:$J,"*ENV*") -> 2 | K9: =COUNTIFS(All_Events_63!$H:$H,"2024",All_Events_63!$J:$J,"*ORI*") -> 0
A10: 2025 | B10: =COUNTIFS(All_Events_63!$H:$H,"2025",All_Events_63!$J:$J,"*ENT*") -> 4 | C10: =COUNTIFS(All_Events_63!$H:$H,"2025",All_Events_63!$J:$J,"*CNS*") -> 26 | D10: =COUNTIFS(All_Events_63!$H:$H,"2025",All_Events_63!$J:$J,"*DIS*") -> 25 | E10: =COUNTIFS(All_Events_63!$H:$H,"2025",All_Events_63!$J:$J,"*GEO*") -> 4 | F10: =COUNTIFS(All_Events_63!$H:$H,"2025",All_Events_63!$J:$J,"*STK*") -> 2 | G10: =COUNTIFS(All_Events_63!$H:$H,"2025",All_Events_63!$J:$J,"*TMP*") -> 6 | H10: =COUNTIFS(All_Events_63!$H:$H,"2025",All_Events_63!$J:$J,"*SOM*") -> 0 | I10: =COUNTIFS(All_Events_63!$H:$H,"2025",All_Events_63!$J:$J,"*SYM*") -> 24 | J10: =COUNTIFS(All_Events_63!$H:$H,"2025",All_Events_63!$J:$J,"*ENV*") -> 29 | K10: =COUNTIFS(All_Events_63!$H:$H,"2025",All_Events_63!$J:$J,"*ORI*") -> 0

Sheet Category_Totals_63
A1: Category_Code | B1: Category_Name | C1: Total_Count_63
A2: ENT | B2: Entities / NHI | C2: =COUNTIF(All_Events_63!$J:$J,"*ENT*") -> 24
A3: CNS | B3: Consciousness State Alteration | C3: =COUNTIF(All_Events_63!$J:$J,"*CNS*") -> 51
A4: DIS | B4: Spatial Displacement | C4: =COUNTIF(All_Events_63!$J:$J,"*DIS*") -> 35
A5: GEO | B5: Geometric / Energetic Phenomena | C5: =COUNTIF(All_Events_63!$J:$J,"*GEO*") -> 7
A6: STK | B6: Stacked Rooms / Layered Environment | C6: =COUNTIF(All_Events_63!$J:$J,"*STK*") -> 2
A7: TMP | B7: Temporal / Precognitive Effects | C7: =COUNTIF(All_Events_63!$J:$J,"*TMP*") -> 10
A8: SOM | B8: Somatic Traces | C8: =COUNTIF(All_Events_63!$J:$J,"*SOM*") -> 3
A9: SYM | B9: Symbolic Gestures | C9: =COUNTIF(All_Events_63!$J:$J,"*SYM*") -> 30
A10: ENV | B10: Environmental Reconstruction | C10: =COUNTIF(All_Events_63!$J:$J,"*ENV*") -> 47
A11: ORI | B11: 4D Orientation Events | C11: =COUNTIF(All_Events_63!$J:$J,"*ORI*") -> 0

Sheet Parent_Subphase_Mapping
A1: Primary_Encounter_ID | B1: Label | C1: Num_Subphases
A2: 1 | B2: Shadows on curtains | C2: 0
A3: 2 | B3: Short figures around bed | C3: 0
A4: 3 | B4: Malevolent wrinkled figure | C4: 0
A5: 4 | B5: Void with dread | C5: 0
A6: 5 | B6: Guided flight | C6: 0
A7: 6 | B7: High-altitude floating | C7: 0
A8: 7 | B8: OBEs over Bribie | C8: 0
A9: 8 | B9: Falling then flying | C9: 0
A10: 9 | B10: Ceiling tether OBE | C10: 0
A11: 10 | B11: Pitch-black room | C11: 0
A12: 11 | B12: Emerald figure | C12: 0
A13: 12 | B13: Navy pendant vision | C13: 0
... A42: 41 | B42: Teleport to UK | C42: 3
